BEGIN:VCALENDAR
VERSION:2.0
PRODID:-//BPW Neuchatel//NONSGML kigkonsult.se iCalcreator 2.16.12//
METHOD:PUBLISH
X-MS-OLK-FORCEINSPECTOROPEN:TRUE
BEGIN:VEVENT
UID:20260424T154928CEST-6978CvcZxs@BPW Neuchatel
DTSTAMP:20260424T134928Z
DESCRIPTION:\n \n75ans - jubilé #BPW \n\nEvènement du 13 septembre 2022 dès
  18h00\n\n75 ans d’engagement pour l’égalité et la visibilité des femmes d
 ans la politique\, l’économie et la société\, cela se fête.\n\nLe défi est
  lancé de toutes nous retrouver et partager cette soirée festive en musiqu
 e.\n\nVous aurez également l’occasion de partager ce moment avec les membr
 es de club du Jura\, de Bienne\, Fribourg et de Vaud ainsi que des membres
  du comité central.\n\nNous avons choisi un endroit facile d’accès à 3 min
 utes de la sortie du tunnel de la vue des Alpes. Un lieu rempli d’histoire
 \, rénové avec goût par un couple passionné.\n\nVenez fêter le 75ème anniv
 ersaire de votre club BPW avec Seriously Serious\, un groupe à l’univers d
 écalé (www.seriously-serious.com)\n\nAccueil dès 18h00\nApéritif de bienve
 nue : de 18h00 à 19h00\nElocutions : de 19h00 à 19h30\nRepas : de 19h30 à 
 20h30\nMusique : dès 21h00\n\nBuffet gourmand (froid & chaud)\, desserts e
 t boissons\n\nPrix unique : CHF 85.-- (uniquement pour les membres BPW)\n
 \nAfin que nous puissions organiser les modalités de cette soirée\, nous v
 ous remercions de vous inscrire rapidement\, dernier délai le lundi 5 sept
 embre.\n\nLieu :\nLa Ferme des Arêtes\nRue de la Croix-Fédérale\n2300 La C
 haux-de-Fonds\nLien pour itinéraire\n \n\n
DTSTART:20220913T183000
DTEND:20220913T213000
LOCATION:A confirmer ultérieurement
ORGANIZER:MAILTO:BPW Neuchatel <info@bpw-neuchatel.ch>
SUMMARY:75 ans du club BPW Switzerland
END:VEVENT
END:VCALENDAR
