BEGIN:VCALENDAR
VERSION:2.0
PRODID:-//BPW Neuchatel//NONSGML kigkonsult.se iCalcreator 2.16.12//
METHOD:PUBLISH
X-MS-OLK-FORCEINSPECTOROPEN:TRUE
BEGIN:VEVENT
UID:20260424T155939CEST-5821HhriAn@BPW Neuchatel
DTSTAMP:20260424T135939Z
DESCRIPTION:\n\n\nConférence 'Oser l'indépendance'\n\nJeudi 20 octobre 2022
  à 19h00\, accueil dès 18h00\n\nGaëlle Pecoraro - graphiste\, illustratric
 e\, auteure de bande dessinée\, youtubeuse\, formatrice et entrepreneure a
  eu la chance de travailler avec des dizaines d’entreprises neuchâteloises
  et internationales.\n\nUne vidéo pour vous faire découvrir notre conféren
 cière : https://youtu.be/sPx5ECN_TBs\n\nElle souhaite aujourd’hui vous par
 tager son expérience dans le chemin de sa prise d’indépendance et vous enc
 ourager à oser vivre de votre passion.\n\nNée avec un crayon dans les main
 s et entrepreneuse dans l’âme depuis son plus jeune âge\, elle créa sa 1èr
 e bande-dessinée à 15 ans. \n\nDynamique\, solaire et passionnée par le gr
 aphisme\, elle partagera avec nous les étapes\, les opportunités ainsi que
  les échecs qui l’ont conduite tout au long de son parcours professionnel.
 \n\n\n	La conférence se déroulera dans l’une des plus ancienne brasserie de
  Neuchâtel\, datant de 1862. Temple des grands classiques du terroir.\n	Bra
 sserie du Jura\, rue de la Treille 7 à Neuchâtel le jeudi 20 octobre à 19h
 \, accueil dès 18h à la salle du 1ère étage.\n\n\nPrix de la conférence av
 ec apéritif dinatoire sous le signe du réseautage :\nMembre : CHF 55.--\nN
 on membre CHF 75.--\n\nNous vous invitons dès maintenant à vous inscrire e
 t ceci jusqu’au 13 octobre prochain!\nPassée cette date\, la réservation e
 n ligne ne sera plus possible\, merci de nous contacter via : info@bpw-neu
 chatel.ch\n\n
DTSTART:20221020T183000
DTEND:20221020T213000
LOCATION:Brasserie du Jura 
ORGANIZER:MAILTO:BPW Neuchatel <info@bpw-neuchatel.ch>
SUMMARY:Conférence Oser l'indépendance avec Gaëlle Pecoraro
END:VEVENT
END:VCALENDAR
