BEGIN:VCALENDAR
VERSION:2.0
PRODID:-//BPW Neuchatel//NONSGML kigkonsult.se iCalcreator 2.16.12//
METHOD:PUBLISH
X-MS-OLK-FORCEINSPECTOROPEN:TRUE
BEGIN:VEVENT
UID:20260424T153651CEST-85990FNloc@BPW Neuchatel
DTSTAMP:20260424T133651Z
DESCRIPTION:\n\n\nVisite de l'entreprise familiale - Leutwiler SA\n\nMercre
 di 16 novembre dès 18h00 sur inscription.\n\nUn monde souvent masculin qui
  ne demande qu’à s’ouvrir aux femmes !\n\nLe 16 novembre 2022 prochain à 1
 8h00\, nous serons accueillis par Pascale Leutwiler\, l'une de nos membre\
 , pour un verre de bienvenue qui sera suivi à 19h00 d'une visite de l'entr
 eprise.\n\nLEUTWILER SA est une entreprise familiale bénéficiant de plus d
 e 30ans d'expérience dans le domaine de la construction métallique.\n\nFon
 dée par Pascale et Jean-Marc Leutwiler\, l'entreprise est désormais piloté
 e par la seconde génération respectivement Niels et Steven Leutwiler avec 
 pour défis\, des marchés de plus en plus exigeants en terme d'adaptabilité
  et de durabilité.\n\nLa famille Leutwiler vous propose de partager à la s
 uite de la visite\, d'une agape livrée par le restaurant Sucré Salé pour d
 es moments de réseautage #BPWNeuchatel !\n\nInscription possible jusqu'au 
 11 novembre 2022\, sur le lien !\n\nLES INSCRIPTIONS SONT FERMEES\, si vou
 s avez des questions merci de contacter notre adresse email info@bpw-neuch
 atel.ch !\n\nPrix de la conférence pour nos membres : CHF 45.—\nPrix de la
  conférence pour les non-membres : CHF 55.—\n \n\n\n
DTSTART:20221116T183000
DTEND:20221116T213000
LOCATION:Leutwiler SA Construction Métallique
ORGANIZER:MAILTO:BPW Neuchatel <info@bpw-neuchatel.ch>
SUMMARY:Visite d'entreprise
END:VEVENT
END:VCALENDAR
