BEGIN:VCALENDAR
VERSION:2.0
PRODID:-//BPW Neuchatel//NONSGML kigkonsult.se iCalcreator 2.16.12//
METHOD:PUBLISH
X-MS-OLK-FORCEINSPECTOROPEN:TRUE
BEGIN:VEVENT
UID:20260424T160255CEST-791185jPAB@BPW Neuchatel
DTSTAMP:20260424T140255Z
DESCRIPTION:\n\n\nSoirée de Noël BPW NEUCHATEL\n\nJeudi 15.12.2022 dès 18h3
 0\n\nChères membres\,\n\nLa fin d’année est déjà arrivée et c’est le momen
 t de vous laisser guider par l’étoile de Noël. \n\nCette dernière vous amè
 nera dans un lieu d’exception du patrimoine neuchâtelois recommandé par le
  Gault et Millau.\n\nAlors n’hésitez pas et venez nombreuses partager un r
 epas festif tout en prenant le temps d’échanger !\n\nAccueil dès 18h30 et 
 repas dès 19h15\n\nRestaurant de l’Hôtel DuPeyrou\nAvenue DuPeyrou 1\, 200
 0 Neuchâtel\n\nPour que la fête soit encore plus belle\, n’hésitez pas à a
 jouter à votre tenue une pièce ou un accessoire sur le thème de l’étoile d
 e Noël !\n\nUn cadeau vous attend sous le sapin…\n\nRéservé UNIQUEMENT à n
 os membres BPW NEUCHATEL\, avec leur cotisation à jour pour 2022 !\nInscri
 ption jusqu'au 8 décembre 2022 minuit\, passée cette date aucune inscripti
 on ne sera possible !\nPrix unique : CHF 80.--\n\n\n
DTSTART:20221215T183000
DTEND:20221215T213000
LOCATION:Restaurant de l'Hôtel DuPeyrou
ORGANIZER:MAILTO:BPW Neuchatel <info@bpw-neuchatel.ch>
SUMMARY:Soirée de Noël BPW Neuchâtel
END:VEVENT
END:VCALENDAR
