BEGIN:VCALENDAR
VERSION:2.0
PRODID:-//BPW Neuchatel//NONSGML kigkonsult.se iCalcreator 2.16.12//
METHOD:PUBLISH
X-MS-OLK-FORCEINSPECTOROPEN:TRUE
BEGIN:VEVENT
UID:20260424T140024CEST-8806vUwUKj@BPW Neuchatel
DTSTAMP:20260424T120024Z
DESCRIPTION:\n...et au 25e anniversaire du BPW Club Oberaargau!\n\nBPW Swit
 zerland et le BPW Club Oberaargau ont le plaisir de vous inviter au week-e
 nd de l'Assemblée des déléguées 2023\, les 2 et 3 juin 2023 à Langenthal.
 \n\nDans le flyer d'invitation\, vous trouverez toutes les informations dé
 taillées sur le programme\, les possibilités d'hébergement et les prix.\n
 \nVers le flyer d'invitation\n\nL'inscription est possible dès maintenant 
 en bas de cette page. Les tarifs pour les réservations anticipées sont val
 ables jusqu'au 5 mai 2023 inclus. our en profiter\, au moment de l’achat d
 e votre billet\, activez le code de réduction « DV23 » et cliquez sur le P
 lus rouge.\n\nLe programme\n\nVendredi\, 2 juin 2023: Alumnae-Meeting\n\nU
 n événement pour les présidentes de club\, anciennes et actuelles\, et les
  associées du comité central\, anciennes et actives\n\nThème: Qui sommes-n
 ous - quelle est notre finalité? Analyse\, défis\, recommandations d’actio
 n\; présentation et discussion des résultats de l’enquête auprès des membr
 es de BPW Switzerland\n\nLieu               Parkhotel Langenthal\, Weststr
 asse 90\,\n                      4900 Langenthal\n                      in
 fo@parkhotel-langenthal.ch\n\n17h00            Arrivée des présidentes et 
 des invités\n                      (Enregistrement individuel)\n\n18h00   
          Alumnae-Meeting avec apéritif\n\n20h00             Dîner\n\nVers 
 l'inscription pour Vendredi\, 2 Juin 2023\n \n\nSamedi\, 3 Juin 2023: Asse
 mblée des Déléguées\n\nLieu                        Parkhotel Langenthal\, 
 Weststrasse 90\, 4900 Langenthal\n                           \n08h30      
                Accueil\, café de bienvenue\n\n10h00 à 12h00       Atéliers
 \n\nWorkshop 1: BPW werden und BPW bleiben – Ideen und Lösungsansätze für 
 BPW Clubs\n(avec Andrea Bläsi\, Claudine Esseiva\, Sandra Fröhlich et Soua
 d Hächler)\n\nWorkshop 2: Pimp your Linkedin – Welches Potential steckt in
  meinem Profil für meine eigene Visibilität?\n(avec Joanne Kim et Sheerah 
 Kim) Remarque : cet atelier sera traduit simultanément de l'allemand vers 
 le français.\n\nWorkshop 3: Reverse Mentoring – Wie können die verschieden
 en Generationen bei BPW voneinander lernen und profitieren? (avec Sandra J
 auslin)\n\nWorkshop 4: Frauenthemen? Gibt es nicht! - Politisch denken\, h
 andeln\, Verantwortung übernehmen\n(avec Myriam Heidelberger et Beatrice L
 üthi\, Past President BPW Switzerland)\n\n12h00 à 14h00       Déjeuner\n\n
 14h00 à 17h00       Assemblée des déléguées dans la Westhalle A\n\n18h30  
                    Apéritif\n\n19h30                     Dîner de gala ann
 iversaire dans la Westhalle B\n\nBon à savoir:\n\n\n	\n	Le week-end de l’ass
 emblée des déléguées 2023\, toutes les BPW\, les personnes intéressées et 
 leurs partenaires sont invités à passer un week-end inspirant à Langenthal
 .\n	\n	\n	Les partenaires sont les bienvenus au dîner de gala du soir. Le sam
 edi après-midi\, le BPW Club Oberaargau a ellaboré un programme intéressan
 t spécialement pour les partenaires. Vous trouverez toutes les information
 s à ce sujet dans le flyer d'invitation.\n	\n	\n	L'inscription à notre week-e
 nd de l'Assemblée des délégués est réalisée à l'aide d'un système de ticke
 ts. Vous établissez ainsi individuellement votre programme et payez commod
 ément par carte de crédit\, Twint ou\, comme jusqu’à présent\, sur facture
 . Après le paiement\, vous recevez votre billet par voie électronique. Pou
 r cette raison\, des billets distincts doivent être achetés pour les parte
 naires.\n	\n	\n	Jusqu’au 5 mai 2022\, des tarifs Early Bird s’appliquent. Pou
 r en profiter\, au moment de l’achat de votre billet\, activez le code de 
 réduction « DV23 » et cliquez sur le Plus rouge.\n	\n	\n	L'inscription est ob
 ligatoire. En cas de désinscription jusqu'au 22.05.2023\, une taxe de CHF 
 30.00 est due. Plus tard - ou en l'absence de désistement - la totalité de
 s frais d'inscription.\n	\n	\n	À partir du 25 mai\, seule la visite de l’asse
 mblée des déléguées pourra encore être réservée\, sans consommation ni pro
 gramme cadre ou de partenaires.\n	\n	L'inscription est close. Pour participe
 r à l'Assemblée des délégués sans programme-cadre\, veuillez envoyer un e-
 mail à info@bpw.ch.\n	\n\n\n
DTSTART:20230602T000000
DTEND:20230603T235900
LOCATION:Parkhotel Langenthal
ORGANIZER:MAILTO:BPW Neuchatel <info@bpw-neuchatel.ch>
SUMMARY:Assemblée des déléguées 2022
END:VEVENT
END:VCALENDAR
