BEGIN:VCALENDAR
VERSION:2.0
PRODID:-//BPW Neuchatel//NONSGML kigkonsult.se iCalcreator 2.16.12//
METHOD:PUBLISH
X-MS-OLK-FORCEINSPECTOROPEN:TRUE
BEGIN:VEVENT
UID:20260424T142631CEST-39077pmWjc@BPW Neuchatel
DTSTAMP:20260424T122631Z
DESCRIPTION:Lieu : Hôtel-Restaurant Port-Conty\n\nRue du Débarcadère 21\n\n
 2024 St-Aubin-Sauges-NE\n\nDate : Samedi 11 mars 2023 de 09h-14h\, repas c
 ompris\n \n\nSaviez-vous que les femmes qui investissent en bourse obtienn
 ent de meilleures performances que les hommes ? Et pourtant\, encore trop 
 peu de femmes se lancent. \n\nCette conférence a pour but de déconstruire 
 les stéréotypes financiers afin de prendre conscience de nos compétences n
 aturelles à gérer notre argent. Nous parcourrons ensemble les raisons qui 
 nous bloquent à prendre en main nos finances. \n\nVous y apprendrez\, de m
 anière simple et concrète :\n\n• Pourquoi investir en bourse est indispens
 able pour une femme\n\n• Quelle est la différence entre investir et spécul
 er\n\n• Plusieurs concepts techniques de base pour vous permettre de franc
 hir les portes de l’investissement en bourse\n\n \n\nBiographie de la Conf
 érencière Sarah Genequand Miche:\n\n \n\nGrâce à l'évolution des mœurs\, l
 es femmes ont le droit de détenir des biens\, de travailler\, de voter\, d
 e divorcer\, de s'émanciper des hommes : autant d'étapes franchies qui auj
 ourd'hui font parfois sourire par leur évidence. Mais l'indépendance des f
 emmes et leur pleine liberté passent également par le contrôle de leur arg
 ent.\n\nC’est dans cette optique que son expérience et ses valeurs ont pou
 ssé Sarah Genequand Miche à écrire le livre « Ce que valent les femmes » :
  un guide pratique\, sympathique et accessible qui a pour but d’éveiller l
 ’intérêt des femmes pour la finance et les aider à prendre en charge leurs
  investissements.\n\nEn effet\, après avoir obtenu son master en relations
  internationales à l’Institut de Hautes Etudes Internationales et Développ
 ement\, elle a commencé sa carrière professionnelle en tant que Trust Offi
 cer au sein de Cititrust(Switzerland) SA\, puis Barclaytrust (Suisse) SA. 
 Elle est aujourd’hui associée de Lyra Wealth SA\, une société de gestion d
 e fortune basée à Genève.\n\nEn qualité d’indépendante\, sa mission est de
  donner à chaque femme l’autonomie et la sécurité financière pour garantir
  leur indépendance.\n\nLe programme :\n\n9h30-10h30-Accueil et networking
 \n\n10h30-12h-Conference/Discussion\n\n12h Repas de midi\n\n\nRéservation 
 obligatoire jusqu'au 8 mars 2023.\n\nPrix d'entrée (repas compris)\n• 65.-
  pour les membres\n• 75.- pour les non-membres\n\n\n\n\n
DTSTART:20230311T090000
DTEND:20230311T140000
LOCATION:Hôtel-Restaurant Port-Conty
ORGANIZER:MAILTO:BPW Neuchatel <info@bpw-neuchatel.ch>
SUMMARY:Investir au féminin
END:VEVENT
END:VCALENDAR
