BEGIN:VCALENDAR
VERSION:2.0
PRODID:-//BPW Neuchatel//NONSGML kigkonsult.se iCalcreator 2.16.12//
METHOD:PUBLISH
X-MS-OLK-FORCEINSPECTOROPEN:TRUE
BEGIN:VEVENT
UID:20260424T160051CEST-2581kCApIT@BPW Neuchatel
DTSTAMP:20260424T140051Z
DESCRIPTION:\nCette fois- ci nous parlerons vraiment des SALAIRES ! \n\nA l
 ’instar de tous les Cantons suisses\, Neuchâtel traitera aussi de cette pr
 oblématique à l’occasion de l’EPD\n\nDes personnalités de notre Canton nou
 s font l’amitié de partager leur expertise\, expérience et conception de l
 a rétribution salariale\n\nVenez le 7 mars prochain pour identifier les co
 ntours de ce que l’on appelle l’égalité salariale et les moyens de s’en as
 surer. \n\nMardi 7 mars 2023 à 18h précise au Bâtiment de la Poste Numa Dr
 oz 2\, à l’espace Coworking.\n\n\n	Nicole Baur présidente de la Ville de Ne
 uchâtel( ville signataire de la Charte ) quelle pratique ?\n	Monique Graf d
 octeur es.Statistiques : comparaison Logib/Salarium quel crédibilité ?\n	Ma
 xime Auchlin Ingénieur en matériaux de l’entreprise éponyme : l’égalité sa
 lariale quelle conception politique ?\n\n\nUn apéritif suivra permettant d
 e poursuivre les débats\, échanges et réflexions \n\nMerci de vous inscrir
 e ci-dessous.\n\n\n\n\n\n\n\n
DTSTART:20230307T180000
DTEND:20230307T210000
LOCATION:Bâtiment de la Poste\, à l’espace Coworking.
ORGANIZER:MAILTO:BPW Neuchatel <info@bpw-neuchatel.ch>
SUMMARY:Equal Pay Day
END:VEVENT
END:VCALENDAR
