BEGIN:VCALENDAR
VERSION:2.0
PRODID:-//BPW Neuchatel//NONSGML kigkonsult.se iCalcreator 2.16.12//
METHOD:PUBLISH
X-MS-OLK-FORCEINSPECTOROPEN:TRUE
BEGIN:VEVENT
UID:20260424T142529CEST-5516IGvUzk@BPW Neuchatel
DTSTAMP:20260424T122529Z
DESCRIPTION:\nNous aurons le plaisir  d’accueillir Blake Eduardo.\nDemi-fin
 aliste d’incroyable talent et finaliste de Got talent Espagne\, Blake Edua
 rdo est un Clown tragimoriste\, un magicien par inadvertance\, un mentalis
 te\,\nun comédien qui fait son cinéma depuis qu’il est en âge d’imaginer d
 es histoires.\n \nVenez seule ou accompagnée d’une amie fêter avec nous\, 
 le vendredi 28 avril 2023 \n \nAccueil dès 18h et spectacle à 19h.\nSoyez 
 à l’heure car la salle sera fermée durant toute la représentation.\n \nAfi
 n de vous accueillir dignement et organiser le buffet\, nous vous invitons
  à toutes vous inscrire rapidement ci-dessous\, jusqu’au mardi 18 avril pr
 ochain.\n\nPrix\nSouper + spectacle : CHF 85.-\nNon membres 100.-.
DTSTART:20230428T180000
DTEND:20230428T223000
LOCATION:Ferme des Arêtes
ORGANIZER:MAILTO:BPW Neuchatel <info@bpw-neuchatel.ch>
SUMMARY:75 ans du Club
END:VEVENT
END:VCALENDAR
