BEGIN:VCALENDAR
VERSION:2.0
PRODID:-//BPW Neuchatel//NONSGML kigkonsult.se iCalcreator 2.16.12//
METHOD:PUBLISH
X-MS-OLK-FORCEINSPECTOROPEN:TRUE
BEGIN:VEVENT
UID:20260424T135947CEST-0887rh7ssZ@BPW Neuchatel
DTSTAMP:20260424T115947Z
DESCRIPTION:\n\nDans le cadre de la 5ème édition de la Semaine de l’Europe\
 , sous le thème « Femmes en Europe »\, notre club en collaboration avec la
  Ville de Neuchâtel et de nombreux partenaires institutionnels propose un 
 événement musical ouvert à tous.\nNous avons le plaisir d’accueillir 2 per
 sonnalités féminines qui par leur art concrétisent les idéaux européens fo
 ndées sur le pluralisme démocratique\, la paix et la tolérance.\n\nCet évé
 nement musical est ouvert à tous et se déroulera dans la grande salle du R
 estaurant du Château à Colombier.  \n\nOlga Barben\, spinto-soprano\, cant
 atrice de l’opéra chante l’espoir\, la paix\, l’harmonie et la joie accomp
 agnée par la pianiste Yanina de Pourtalès.     ￼    \n\nLe comité sera là 
 pour accueillir le public et les membres dès 18h30.\n\nInscrivez-vous pour
  partager ce beau moment !\n\nPour les membres BPW et leurs invités : \nMe
 rci de vous inscrire jusqu'au mardi 2 mai à l’apéritif dînatoire privatisé
  qui suivra le concert via le formulaire ci-dessous.\n\nTarif :\n65.- pour
  les membres et\n85.- pour les non-membres  \n\nPour information : \nLe to
 ut public\, aura la possibilité de s’inscrire uniquement à l’événement\, v
 ia l’adresse mail : info@bpw-neuchatel.ch (Chapeau à la sortie)\n\nVenez n
 ombreuses partager ce moment unique !
DTSTART:20230504T183000
DTEND:20230504T213000
LOCATION:Restaurant du Château à Colombier
ORGANIZER:MAILTO:BPW Neuchatel <info@bpw-neuchatel.ch>
SUMMARY:Semaine de l’Europe
END:VEVENT
END:VCALENDAR
