BEGIN:VCALENDAR
VERSION:2.0
PRODID:-//BPW Neuchatel//NONSGML kigkonsult.se iCalcreator 2.16.12//
METHOD:PUBLISH
X-MS-OLK-FORCEINSPECTOROPEN:TRUE
BEGIN:VEVENT
UID:20260424T135839CEST-1019i6ZE5A@BPW Neuchatel
DTSTAMP:20260424T115839Z
DESCRIPTION:\nLe week-end des 16 et 17 septembre 2023\, une expérience exce
 ptionnelle vous attend avec le BPW Club de Lucerne !\nVingt femmes du BPW 
 Club Lucerne séjourneront à l'hôtel Alpes et Lac à Neuchâtel pour un week-
 end mémorable.\nVoici un aperçu de ce qui vous attend:\n\nLe samedi : une 
 marche de Noiraigue (Areuse) à Champ du Moulin\, suivie d'un délicieux rep
 as à l'Hôtel de la Truite à 14h15. Ensuite\, une dégustation de vins neuch
 âtelois au pittoresque Château de Boudry à 16h. Pour terminer la soirée en
  beauté\, un dîner convivial à l'Hôtel Alpes et Lac à Neuchâtel à 18h.\nLe
  dimanche : une visite guidée de Neuchâtel et une exploration du fascinant
  musée de l'Absinthe à Môtiers.\n\nNous vous invitons à participer à l'une
  des quatre propositions suivantes\, choisissez votre expérience :\n\n• 1 
 - Marche de Noiraigue à Champ du Moulin avec repas à l'Hôtel de la Truite.
  Départ de la marche à 13h\, repas à 14h15.\n• 2- Dégustation de vin au Ch
 âteau de Boudry. Samedi à 16h.\n• 3 -Souper à l'Alpes et Lac à Neuchâtel. 
 Samedi à 18h.\n•  4- Visite de la maison de l'Absinthe à Môtiers. Dimanche
  à 14h.\n\nLes inscriptions sont ouvertes jusqu'au 31 août. \nMerci d'ajou
 ter dans la case 'remarques' le numéro correspondant à l'activité ou aux a
 ctivités auxquelles vous souhaitez vous inscrire. \nChaque participante pa
 iera le prix coûtant pour chaque activité directement sur place.\n\nNe man
 quez pas cette occasion enrichissante et conviviale ! \nInscrivez-vous dès
  maintenant. \n\n 
DTSTART:20230916T000000
DTEND:20230917T235900
LOCATION:Neuchatel 
ORGANIZER:MAILTO:BPW Neuchatel <info@bpw-neuchatel.ch>
SUMMARY:VISITE du BPW Lucerne à Neuchâtel
END:VEVENT
END:VCALENDAR
