BEGIN:VCALENDAR
VERSION:2.0
PRODID:-//BPW Neuchatel//NONSGML kigkonsult.se iCalcreator 2.16.12//
METHOD:PUBLISH
X-MS-OLK-FORCEINSPECTOROPEN:TRUE
BEGIN:VEVENT
UID:20260424T142524CEST-67307w2Cs1@BPW Neuchatel
DTSTAMP:20260424T122524Z
DESCRIPTION:  \nPlongez dans l'univers des espaces harmonieux et efficaces 
 avec Stéphanie Positano.\n\nÀ Propos de Stéphanie Positano\, Créatrice de 
 Luli Concept :\n\nStéphanie Positano\, créatrice de Luli Concept\, a initi
 é un concept novateur pour aider les individus à insuffler du sens dans le
 urs intérieurs en fonction de leurs besoins et de leurs désirs uniques. Se
  sentir chez soi\, tout en chérissant son espace intérieur\, est primordia
 l dans le monde d'aujourd'hui. Un clin d'œil à ses origines\, 'Luli' provi
 ent du quechua\, un dialecte péruvien\, symbolisant à la fois 'L'intérieur
  de soi' et 'le chez-soi' simultanément.En tant que fervente défenseure du
  développement personnel\, minimaliste en herbe et enthousiaste du rangeme
 nt\, Stéphanie offre également des conseils pour simplifier votre vie quot
 idienne grâce au désencombrement. 'Simplifiez votre vie en désencombrant v
 otre espace' pourrait très bien être sa devise !\n\nÀ Propos de la Présent
 ation:\n\nAvec Stéphanie\, vous apprendrez comment concevoir un espace int
 érieur cohérent tout en optimisant le stockage pour une harmonie parfaite 
 dans votre environnement professionnel\, tout en acquérant des compétences
  essentielles pour entreprendre et attirer des clients.\n\nDétails de l'Év
 énement:\n\nDate : 26.10.2023 à 18:30h\nLieu : Hôtel Alpes et Lac\, Place 
 de la Gare 2 · 2000 Neuchâtel\nFormat: Conférence inspirante suivie d'un d
 élicieux cocktail de réseautage.\nPrix : 65 CHF pour les Membres / 75 CHF 
 pour les Non-Membres\nInscriptions : Délai d'inscription jusqu'au 23 octob
 re. Limité à un maximum de 30 participantes.\nParking à Proximité : Parkin
 g de la Gare de Neuchâtel\n\nRejoignez-nous pour une conférence inspirante
  suivie d'un délicieux cocktail de réseautage.\n\nNe manquez pas cette opp
 ortunité de transformer votre environnement en un sanctuaire d'équilibre e
 t de fonctionnalité.\nRéservez votre place dès aujourd'hui et embarquez av
 ec nous dans ce voyage de découverte de soi et d'harmonie intérieure avec 
 Stéphanie Positano.\n \n\n\n\n\n\n\n\n\n\n\n\n\n 
DTSTART:20231026T183000
DTEND:20231026T213000
ORGANIZER:MAILTO:BPW Neuchatel <info@bpw-neuchatel.ch>
SUMMARY:Conférence 'Optimisation d'espace et fonctionnalité dans un esprit 
 minimaliste'
END:VEVENT
END:VCALENDAR
