BEGIN:VCALENDAR
VERSION:2.0
PRODID:-//BPW Neuchatel//NONSGML kigkonsult.se iCalcreator 2.16.12//
METHOD:PUBLISH
X-MS-OLK-FORCEINSPECTOROPEN:TRUE
BEGIN:VEVENT
UID:20260424T135817CEST-9708k7BDZX@BPW Neuchatel
DTSTAMP:20260424T115817Z
DESCRIPTION:\nÀ Propos d'Alice Fauconnet et de New Roots :\n\nAlice Fauconn
 et est la cofondatrice et la directrice marketing de New Roots\, une start
 -up suisse fondée en 2015 à Thoune (BE). Leur mission est de fournir une a
 lternative éthique et durable au fromage d'origine animale. Pour y parveni
 r\, ils produisent du fromage à partir de lait végétal biologique et fait 
 maison\, en utilisant des méthodes ancestrales de fermentation et d'affina
 ge. Leur gamme comprend des alternatives au camembert\, à la ricotta\, au 
 fromage frais\, ainsi que des classiques suisses tels que la fondue et la 
 raclette. Depuis 2021\, New Roots a élargi son offre pour devenir une véri
 table crémerie végétale\, proposant notamment de la crème fraîche\, des ya
 ourts\, et bien plus encore.\n\nÀ Propos de la Présentation :\n\nAlice\, c
 ofondatrice de New Roots\, partagera l'histoire de la création de l'entrep
 rise\, depuis ses modestes débuts jusqu'à sa reconnaissance en tant que le
 ader européen dans le domaine de la crémerie végétale. Vous découvrirez co
 mment aborder l'entrepreneuriat dans un secteur fortement concurrentiel\, 
 où l'innovation et la distinction sont cruciales. De plus\, vous comprendr
 ez l'importance croissante de la durabilité et de la santé pour des client
 s de plus en plus exigeants. \n\nDétails de l'Événement :\n\nDate : 23 nov
 embre 2023 à 18:30 h\nLieu : Hôtel des Arts\, Rue J.-L.-Pourtalès 3\, 2000
  Neuchâtel\nFormat : Conférence suivie d’un apéritif pour déguster les pro
 duits de la véritable crémerie végétale de New Roots.\nPrix : 35 CHF pour 
 les Membres\; 45 CHF pour les Non-Membres\nInscriptions : Délai d'inscript
 ion jusqu'au 16 novembre. Limité à un maximum de 30 participantes.\nParkin
 g à Proximité : Parking des Jeunes-Rives\n\nNe manquez pas cette opportuni
 té de plonger dans le monde de l'innovation alimentaire suisse aux côtés d
 'Alice Fauconnet\, une pionnière passionnée. Réservez dès maintenant votre
  place pour cette soirée qui promet d'être à la fois informative et inspir
 ante.\n \n\n\n\n\n\n\n\n 
DTSTART:20231123T183000
DTEND:20231123T213000
ORGANIZER:MAILTO:BPW Neuchatel <info@bpw-neuchatel.ch>
SUMMARY:Conférence 'Innovation Alimentaire Suisse\, aussi innovant que dura
 ble'
END:VEVENT
END:VCALENDAR
