BEGIN:VCALENDAR
VERSION:2.0
PRODID:-//BPW Neuchatel//NONSGML kigkonsult.se iCalcreator 2.16.12//
METHOD:PUBLISH
X-MS-OLK-FORCEINSPECTOROPEN:TRUE
BEGIN:VEVENT
UID:20260424T142345CEST-0127CWi2iV@BPW Neuchatel
DTSTAMP:20260424T122345Z
DESCRIPTION:L'année touche à sa fin\, et quelle meilleure façon de la clôtu
 rer qu'en célébrant ensemble ! Rejoignez-nous pour une soirée de Noël mémo
 rable\, une occasion spéciale où nous pourrons partager nos réussites\, di
 scuter de nos projets futurs\, et renforcer les liens au sein de notre ass
 ociation.\n\nC'est le moment privilégié pour rassembler nos membres et pro
 fiter de l'esprit de collaboration qui anime notre communauté. Ensemble\, 
 nous avons accompli de grandes choses cette année\, et cette soirée sera l
 'occasion de célébrer nos réussites et de nous inspirer mutuellement pour 
 l'année à venir.\n\nDétails de l'Événement :\nLimité à un maximum de 20 pa
 rticipants\nDate : 14 Décembre 2023\nLieu : Hôtel Palafitte\, Rte des Gout
 tes-d'Or 2\, 2008 Neuchâtel\nParking à Proximité : Parking Hotel Palafitte
 \nPrix :100 CHF pour les Membres (Menú a trois plats) \n\nRéservez dès mai
 ntenant votre place pour cette soirée spéciale et préparez-vous à vivre de
 s moments de convivialité\, de partage et d'inspiration!
DTSTART:20231214T193000
DTEND:20231214T210000
ORGANIZER:MAILTO:BPW Neuchatel <info@bpw-neuchatel.ch>
SUMMARY:DÎNER DE NOËL ÉTOILÉE
END:VEVENT
END:VCALENDAR
