BEGIN:VCALENDAR
VERSION:2.0
PRODID:-//BPW Neuchatel//NONSGML kigkonsult.se iCalcreator 2.16.12//
METHOD:PUBLISH
X-MS-OLK-FORCEINSPECTOROPEN:TRUE
BEGIN:VEVENT
UID:20260424T141402CEST-6553LDk0eg@BPW Neuchatel
DTSTAMP:20260424T121402Z
DESCRIPTION:\nBPW auf den Spuren von Natur und Nachhaltigkeit\n\nInvitation
  cordiale à la conférence d’automne de BPW Switzerland\n\nLes hôtesses du 
 BPW Club Lenzbourg et du BPW Switzerland ont le plaisir d’inviter toutes l
 es BPW\, les personnes intéressées et les hôtes à la conférence d’automne 
 de cette année à Lenzbourg.\n\nProgramme du matin\n\nÀ partir de 08 h 45 E
 nregistrement et café de bienvenue\n09 h 45 – 12 h Partie officielle de la
  conférence d’automne de BPW Switzerland\n12 h – 12 h 30 Apéritif\n12 h 30
  – 14 h Déjeuner\n\nProgramme de l’après-midi\n\n\n	\n	Musée Stapferhaus – V
 isite de l’exposition actuelle: La nature. Et nous? – Deux visites guidées
  sont organisées: l’une en allemand et l’autre en français. Veuillez tenir
  compte du choix de la langue lors de l’inscription. Le nombre de places e
 st limité pour les deux visites guidées.\n	\n	\n	Ancien site de Hero: Sur les
  traces des raviolis\, confitures & co. (visite guidée en allemand)\n	\n	\n	S
 ite Wisa Gloria & Gloria CoWorking – Dans l’ombre des célèbres tricycles r
 ouges et des cygnes à bascule blancs et bleus (visite guidée en allemand)
 \n	\n	\n	Traitafina Turnzentrum Aargau – Nouveau centre de gymnastique de l’A
 argauer Turnverband (visite guidée en allemand)\n	\n\n\nLes visites guidées
  ont toutes lieu à distance de marche du lieu de la conférence. Il est rec
 ommandé de porter des chaussures confortables. \n\n\nL’invitation officiel
 le et le programme complet se trouvent ici.\n\nBon à savoir:\n\n\n	\n	Pour l
 es personnes qui souhaitent arriver dès le vendredi soir\, des chambres so
 nt réservées à l’hôtel Ochsen à Lenzbourg à des tarifs préférentiels (ment
 ion: BPW).  Les tarifs préférentiels sont valables jusqu’au 15 septembre 2
 023. Contact: info@ochsen-lenzburg.ch\, 062 886 40 80\n	\n	\n	Les frais d’ins
 cription s’élèvent à CHF 120.–\n	\n	\n	Les inscriptions seront ouvertes à par
 tir du 23 août 2023 et jusqu’au 13 octobre 2023. \n	\n	\n	En cas de désisteme
 nt avant le 13 octobre 2023\, des frais d’annulation de CHF 30.– par perso
 nne seront facturés. Après cette date ou en l’absence d’annulation\, la to
 talité des frais d’inscription sera due.\n	\n\n\n\nVers l'inscription\n\n\n
 \n
DTSTART:20231021T000000
DTEND:20231021T235900
LOCATION:Katholisches Pfarreizentrum Lenzburg
ORGANIZER:MAILTO:BPW Neuchatel <info@bpw-neuchatel.ch>
SUMMARY:Conférence d'automne du BPW Switzerland
END:VEVENT
END:VCALENDAR
