BEGIN:VCALENDAR
VERSION:2.0
PRODID:-//BPW Neuchatel//NONSGML kigkonsult.se iCalcreator 2.16.12//
METHOD:PUBLISH
X-MS-OLK-FORCEINSPECTOROPEN:TRUE
BEGIN:VEVENT
UID:20260424T142820CEST-7929ITv1vW@BPW Neuchatel
DTSTAMP:20260424T122820Z
DESCRIPTION:\n\n\n\n	\n		\n			\n			\n				\n					\n						\n						\n							\n								\n									Gerne machen wir auf diesen Anlass 
 von Young BPW Schaffhausen aufmerksam!\n									\n									Bist du weiblich\, unter 35 Jahr
 en - und berufstätig?\n									Wir gestalten die Zukunft des Young BPW Schaffhause
 n: Sei dabei.\n									\n									Geniesse mit uns einen spannenden Abend und erweitere dei
 ne berufliche Netzwerkplattform zu interessanten Frauen aus der Region.\n									D
 etails unter www.bpw-schaffhausen.ch/Ueber-uns/Young-BPW\n									\n									\n									Donnerstag 3
 0. November 2023\n									Start 18.00 Uhr - 22.00 Uhr\n									@ SELDA’S Schaffhausen\n									\n									A
 fterwork-Apéro\, Speed Networking\, Open Space und packende Speeches.\n									Anm
 eldung und Tickets / CHF 15.-\n									Eventfrog: https://eventfrog.ch/de/p/fuehru
 ngen-vortraege/business-treff/young-bpw-schaffhausen-let-s-initiate-710258
 4321962111649.html\n									\n									Wir freuen uns auf euch.\n									Das YOUNG BPW - Projekttea
 m.\n								\n							\n						\n						\n					\n				\n			\n			\n		\n	\n\n\n\n\n\n
DTSTART:20231130T180000
DTEND:20231130T220000
LOCATION:SELDA's Schaffhausen
ORGANIZER:MAILTO:BPW Neuchatel <info@bpw-neuchatel.ch>
SUMMARY:Let's initiate - ein Anlass von Young BPW Schaffhausen
END:VEVENT
END:VCALENDAR
