BEGIN:VCALENDAR
VERSION:2.0
PRODID:-//BPW Neuchatel//NONSGML kigkonsult.se iCalcreator 2.16.12//
METHOD:PUBLISH
X-MS-OLK-FORCEINSPECTOROPEN:TRUE
BEGIN:VEVENT
UID:20260424T142411CEST-9967GHuSvR@BPW Neuchatel
DTSTAMP:20260424T122411Z
DESCRIPTION:\nLe samedi 17 février 2024 sera l'Equal Pay Day en Suisse.\n\n
 Jusqu'à cette date\, nous\, les femmes en Suisse\, travaillons toujours sa
 ns rémunération. C'est pourquoi il est si important que nous continuions t
 outes à nous opposer activement et à haute voix à cette situation et que n
 ous nous engagions pour que cela change un jour : pour toutes les femmes q
 ui travaillent\, mais aussi pour nos descendantes. Autour de cette journée
 \, de nombreuses manifestations créatives et riches en actions sont organi
 sées dans nos quarante clubs BPW - il suffit de consulter le calendrier de
 s manifestations de sa région/son club et d'y participer.\n\nCette année -
  comme en 2022 - nous plaçons l'Equal Pay Day sous le thème principal du '
 Gender Pension Gap'\, qui se manifeste surtout dans le 2e pilier et qui es
 t déterminé par la votation à venir sur la réforme des retraites. BPW Swit
 zerland contribuera au débat en cours en tenant compte des différents poin
 ts de vue. Nous appelons tous les BPW à trouver ensemble des réponses aux 
 questions suivantes :\n\nQuel est le rapport entre le Gender Pension Gap e
 t l'Equal Pay Day ? Quels sont les problèmes structurels qui sont à la bas
 e du Gender Pension Gap ? Quels sont les aspects importants de la prochain
 e réforme de la LPP ? Que puis-je faire moi-même pour améliorer mes perspe
 ctives d'obtenir une pension qui me permette de vivre ? Quels sont les ris
 ques que je dois prendre en compte ?\n \n\n\n
DTSTART:20240217T000000
DTEND:20240217T235900
LOCATION:Online
ORGANIZER:MAILTO:BPW Neuchatel <info@bpw-neuchatel.ch>
SUMMARY:EPD 2024: Gender Pension Gap
END:VEVENT
END:VCALENDAR
