BEGIN:VCALENDAR
VERSION:2.0
PRODID:-//BPW Neuchatel//NONSGML kigkonsult.se iCalcreator 2.16.12//
METHOD:PUBLISH
X-MS-OLK-FORCEINSPECTOROPEN:TRUE
BEGIN:VEVENT
UID:20260424T135812CEST-5912UfpHF5@BPW Neuchatel
DTSTAMP:20260424T115812Z
DESCRIPTION: \nL'année 2024 s'annonce\, comme déjà mentionné en décembre 20
 23\, comme une année de transformation et d'évolution pour notre BPW Neuch
 âtel.\n\nNous avons le plaisir de vous inviter à notre Assemblée Générale 
 le jeudi 18 janvier 2024 18h30 au Beaulac. Une date très importante pour d
 iscuter des améliorations à apporter et des nouveautés à introduire au sei
 n du club.\nNous espérons donc vivement votre présence ! Inscrivez-vous su
 r notre site web ici!\n\nNe manquez pas cette occasion de partager vos idé
 es et vos souhaits pour l'évolution de notre Club.\nNous vous souhaitons u
 ne excellente année 2024\, remplie de succès\, de bonheur et de moments in
 spirants au sein de notre club.\n\n 
DTSTART:20240118T183000
DTEND:20240118T200000
ORGANIZER:MAILTO:BPW Neuchatel <info@bpw-neuchatel.ch>
SUMMARY:Assemblée générale 2024
END:VEVENT
END:VCALENDAR
