BEGIN:VCALENDAR
VERSION:2.0
PRODID:-//BPW Neuchatel//NONSGML kigkonsult.se iCalcreator 2.16.12//
METHOD:PUBLISH
X-MS-OLK-FORCEINSPECTOROPEN:TRUE
BEGIN:VEVENT
UID:20260424T142758CEST-80067iXrnU@BPW Neuchatel
DTSTAMP:20260424T122758Z
DESCRIPTION:\n'Les femmes\, protagonistes de l'avenir'\n\nBPW Club Ticino e
 t BPW Switzerland vous invitent cordialement à Locarno pour la conférence 
 d'automne 2024 !\n\nCliquez ici pour accéder à l'invitation et au programm
 e.\n\nLieu de l’événement\n\nHOTEL BELVEDERE LOCARNO\nVia ai Monti\, 44\n6
 600 Locarno - Ticino\n\nProgramme du Samedi 19 Octobre 2024\n\n08:45      
        Inscriptions et Welcome Coffee  \n\n09:45 - 12:00 Salutations de la
  municipalité Conférence d’automne BPW Switzerland\n\n12:00 - 14:00 Déjeun
 er Networking au restaurant de l’Hôtel Belvedere\n\n13 :45 – 14.30 Convers
 ation modéré par Elettra Fiumi avec Nadia Dresti et Klaudia Reynicke\, réa
 lisatrice et scénariste\, dont le film a été sélectionné comme candidat of
 ficiel de la Suisse aux Oscars 2025.\n\n14 :30 – 14 :35 Présentation du Ti
 cino Convention Bureau  \n\n14:45 - 16:30 Programme Culturel\n\n\n	\n	Propos
 ition 1 : Fondation art collection Ghisla\n	\n	\n	Proposition 2 : à la découv
 erte de la ville de Locarno\n	\n\n\n18:30 - 20:00 Marché Ticino\, rencontre
 s avec des artisans locaux et dégustation  \n\n20:00 Dîner de Gala\n\nIl e
 st important de savoir\n\n\n	\n	Le programme culturel du samedi après-midi p
 eut être réservé comme option de billet lors du processus d'inscription.\n
 	\n	\n	Une visite guidée de Locarno est organisée le matin pour les partenair
 es et les accompagnateurs intéressés. Les partenaires sont également les b
 ienvenus au programme culturel du samedi après-midi ainsi qu'au dîner de g
 ala du soir.\n	\n	\n	Important : le déjeuner n'est PAS compris dans le progra
 mme pour les partenaires ni dans le programme culturel de l'après-midi. \n
 	\n\n\nSéjour\n\nPour tous ceux qui souhaitent passer la nuit à Locarno\, d
 es prix préférentiels ont été réservés à l'hôtel Belvedere Locarno\, ainsi
  qu'à l'hôtel City Locarno. Vous trouverez toutes les informations à ce su
 jet dans l'invitation.\n\nInscription\n\nLes inscriptions sont closes. Ren
 dez-vous à Locarno !\n\n
DTSTART:20241019T000000
DTEND:20241019T235900
LOCATION:Hotel Belvedere
ORGANIZER:MAILTO:BPW Neuchatel <info@bpw-neuchatel.ch>
SUMMARY:Conférence d'automne BPW Switzerland 2024
END:VEVENT
END:VCALENDAR
