BEGIN:VCALENDAR
VERSION:2.0
PRODID:-//BPW Neuchatel//NONSGML kigkonsult.se iCalcreator 2.16.12//
METHOD:PUBLISH
X-MS-OLK-FORCEINSPECTOROPEN:TRUE
BEGIN:VEVENT
UID:20260424T123046CEST-5293rwecvZ@BPW Neuchatel
DTSTAMP:20260424T103046Z
DESCRIPTION:\nLe BPW Club Baselland et BPW Switzerland vous invitent cordia
 lement au week-end de la 78e Assemblée des déléguées à Bâle !\n\nLieu de d
 éroulement\n\nHôtel Mövenpick Bâle\, Aeschengraben 25\, 4051 Bâle.\n\nVous
  trouverez ici le programme et toutes les informations sur le week-end de 
 l'Assemblée des déléguées.\n\nIl est important de savoir :\n\nJusqu'au 30 
 avril 2025\, les tarifs «early bird» sont en vigueur!\n\nPour en profiter\
 , veuillez saisir le code EarlyBird_DV25 dans le champ correspondant en ha
 ut à droite du panier et cliquer sur le plus. Choisissez ensuite le prix r
 éduit dans la liste.\n\nL'inscription est définitive. En cas de désinscrip
 tion avant le 30.05.2025\, des frais de modification ou d'annulation de CH
 F 30.00 sont dus. En cas de désistement ultérieur ou en l'absence de désis
 tement\, la totalité des frais de participation sera facturée.\n\nInscript
 ion à l'Alumnae Meeting du vendredi 13 juin 2025\n\nEarly Bird Code: Early
 Bird_DV25\n\n \n\n\nInscription au programme du samedi 14 juin 2025\n\nEar
 ly Bird Code: EarlyBird_DV25\n\n \n\n\nDisclaimer:\nDes photos et/ou des f
 ilms (son compris) seront réalisés durant le week-end de l'Assemblée des d
 élégués. Les personnes qui ne souhaitent pas être photographiées ou filmée
 s peuvent s'adresser directement à la photographe ou à la caméraman. Les p
 rises de vue peuvent être utilisées par BPW pour la communication en ligne
 \, les médias sociaux\, la newsletter\, le site web\, les médias imprimés\
 , etc. et elles seront archivées par BPW Switzerland.\n\n
DTSTART:20250613T000000
DTEND:20250615T235900
LOCATION:Hotel Mövenpick Basel
ORGANIZER:MAILTO:BPW Neuchatel <info@bpw-neuchatel.ch>
SUMMARY:Assemblée des déléguées 2025
END:VEVENT
END:VCALENDAR
