BEGIN:VCALENDAR
VERSION:2.0
PRODID:-//BPW Neuchatel//NONSGML kigkonsult.se iCalcreator 2.16.12//
METHOD:PUBLISH
X-MS-OLK-FORCEINSPECTOROPEN:TRUE
BEGIN:VEVENT
UID:20260424T135932CEST-2057ErizCO@BPW Neuchatel
DTSTAMP:20260424T115932Z
DESCRIPTION:\nL'Equal Pay Day est une journée dédiée à mettre en lumière le
 s écarts de rémunération entre les femmes et les hommes. C'est l'occasion 
 pour nous de sensibiliser le public à cette problématique persistante et d
 e discuter des moyens d'y remédier. Par notre présence au marché de Neuchâ
 tel\, nous espérons encourager le dialogue\, partager des informations per
 tinentes et mobiliser la communauté en faveur de l'égalité salariale.\n\nN
 ous comptons sur votre soutien et votre participation pour faire de cet év
 énement un succès. Que vous soyez disponible pour aider au stand ou simple
 ment passer pour montrer votre soutien\, votre présence sera grandement ap
 préciée.\n\nRejoignez-nous pour faire avancer la cause de l'égalité salari
 ale. Ensemble\, faisons entendre notre voix pour un avenir plus équitable.
 \n\n \n\n\n
DTSTART:20240217T080000
DTEND:20240217T123000
ORGANIZER:MAILTO:BPW Neuchatel <info@bpw-neuchatel.ch>
SUMMARY:Journée de l'Égalité Salariale 
END:VEVENT
END:VCALENDAR
