BEGIN:VCALENDAR
VERSION:2.0
PRODID:-//BPW Neuchatel//NONSGML kigkonsult.se iCalcreator 2.16.12//
METHOD:PUBLISH
X-MS-OLK-FORCEINSPECTOROPEN:TRUE
BEGIN:VEVENT
UID:20260424T142221CEST-0509C9THi7@BPW Neuchatel
DTSTAMP:20260424T122221Z
DESCRIPTION:\nRejoignez-nous pour une conférence éclairante sur la « Prévoy
 ance au féminin »\, une initiative cruciale pour l'autonomie et la sécurit
 é financière des femmes. Cet événement est organisé en collaboration avec 
 Bâloise Assurances SA et se tiendra au Faubourg 1\, Landeron. Découvrez le
 s stratégies essentielles pour assurer votre avenir financier avec sagesse
  et prévoyance.\n\nÀ Propos de la Conférence :\n\nLa prévoyance au féminin
  est plus qu'une nécessité\; c'est une démarche essentielle vers l'équité 
 et l'indépendance économique des femmes. Dans un monde où les disparités f
 inancières et les inégalités de retraite entre hommes et femmes persistent
 \, s'informer et agir pour sa prévoyance devient fondamental.\n\nCette con
 férence vise à équiper les femmes des connaissances et des outils nécessai
 res pour naviguer avec confiance dans le domaine de la prévoyance.\n \n\nD
 étails de l'Événement :\n\n\n	Date : 8 mars 2024 18:00\n	Lieu : Faubourg 1\,
  Landeron\n	Format : Une présentation suivie d’un apéritif\, offrant l'oppo
 rtunité de déguster des produits et d'échanger sur les thèmes abordés.\n	In
 scriptions : Délai d'inscription jusqu'au 14 février à info@bpw-neuchatel.
 ch. \n	Note: Repas non compris\, réservation conseilllée: www.lefederal.ch 
 \n\n\n \n\n\n
DTSTART:20240308T180000
DTEND:20240308T213000
ORGANIZER:MAILTO:BPW Neuchatel <info@bpw-neuchatel.ch>
SUMMARY:Prévoyance au féminin: Cocktail\, Présentation et Apéro
END:VEVENT
END:VCALENDAR
