BEGIN:VCALENDAR
VERSION:2.0
PRODID:-//BPW Neuchatel//NONSGML kigkonsult.se iCalcreator 2.16.12//
METHOD:PUBLISH
X-MS-OLK-FORCEINSPECTOROPEN:TRUE
BEGIN:VEVENT
UID:20260424T135840CEST-61883caKVI@BPW Neuchatel
DTSTAMP:20260424T115840Z
DESCRIPTION:\nRejoignez-nous pour une conférence fascinante sur « L’Intelli
 gence Artificielle et l'Égalité »\, présentée par Dr. Virginie Trachsel\, 
 une experte renommée dans le domaine de l'innovation et de la gestion des 
 données.\n\nÀ Propos de Dr. Virginie Trachsel :\n\nDr. Virginie Trachsel e
 st une leader d'opinion dans le domaine de la gestion de l'innovation et u
 ne experte en données. En tant que Team Leader Innovation Management & Dat
 a Expert\, elle a une vue d'ensemble sur comment l'IA peut être utilisée p
 our améliorer les processus décisionnels et créer des opportunités équitab
 les dans divers secteurs. Forte de son expérience\, elle apporte une persp
 ective unique sur l'intersection entre la technologie\, l'éthique et l'éga
 lité\, soulignant l'importance d'une approche inclusive dans le développem
 ent et l'application de l'IA.\n\nÀ Propos de la Présentation :\n\nLa prése
 ntation de Dr. Trachsel explorera les diverses façons dont l'intelligence 
 artificielle influence l'égalité des sexes dans le milieu professionnel\, 
 l'éducation et au-delà. Elle abordera les défis et opportunités présentés 
 par l'IA en matière d'égalité\, notamment comment les biais inconscients d
 ans les algorithmes peuvent perpétuer les inégalités\, et comment\, à l'in
 verse\, l'IA peut être utilisée comme un outil puissant pour promouvoir l'
 inclusion et la diversité. Cette session offrira des insights précieux sur
  la nécessité d'une gouvernance éthique de l'IA et comment chacun peut con
 tribuer à modeler un futur où la technologie travaille pour l'égalité.\n\n
 Détails de l'Événement :\n\n\n	Date : 14 mars 2024\n	Horaire: 18h.30 Accueil
 \, 19h à 19:50h Conférence\, 20h Réseautage au Waves\n	Lieu : Hôtel Beaulac
 \n	Format : Présentation par Dr. Virginie Trachsel\, suivie d'une session d
 e questions-réponses pour approfondir la discussion sur l'IA et l'égalité.
 \n	Prix : 55 CHF pour les membres\;  66 CHF pour les non membres \n\n\nL'in
 telligence artificielle est à la fois un miroir de nos sociétés et un outi
 l ayant le potentiel de remodeler profondément nos interactions\, nos écon
 omies et nos structures sociales. Comprendre son impact sur l'égalité est 
 essentiel pour garantir que les avancées technologiques bénéficient à tous
 \, sans exception.\n\nPréparez-vous à être inspiré et à repenser la manièr
 e dont l'intelligence artificielle peut être mise au service d'une société
  plus équitable.\n\nRéservez votre place dès l'ouverture des inscriptions 
 et rejoignez-nous pour cette soirée d'apprentissage et de réflexion.\n\n\n
DTSTART:20240314T183000
DTEND:20240314T210000
ORGANIZER:MAILTO:BPW Neuchatel <info@bpw-neuchatel.ch>
SUMMARY:l’Intelligence Artificiel et L’égalité 
END:VEVENT
END:VCALENDAR
