BEGIN:VCALENDAR
VERSION:2.0
PRODID:-//BPW Neuchatel//NONSGML kigkonsult.se iCalcreator 2.16.12//
METHOD:PUBLISH
X-MS-OLK-FORCEINSPECTOROPEN:TRUE
BEGIN:VEVENT
UID:20260424T142214CEST-2476MGElEK@BPW Neuchatel
DTSTAMP:20260424T122214Z
DESCRIPTION:\nConférence DACH 2024 : le programme est disponible !\n\nIl y 
 a deux ans\, BPW Switzerland a organisé et réalisé avec succès la dernière
  conférence DACH à Saint-Gall. Nous avons vécu ensemble des rencontres pas
 sionnantes et des conférences enrichissantes.\n\nLa prochaine conférence B
 PW DACH aura lieu du 20 au 22 septembre 2024 à Ulm en Allemagne. Nous pouv
 ons certainement nous attendre à nouveau à un programme-cadre varié avec d
 es key notes et des ateliers inspirants.\n\nLa manifestation est organisée
  par BPW Germany et s'adresse aux BPW d'Allemagne\, d'Autriche et de Suiss
 e.\n\nLe programme complet et toutes les informations à ce sujet se trouve
 nt désormais ici.\n\n \n\nInformations sur le programme partenaire et les 
 possibilités d'hébergement à Ulm (en allemand)\n\n\nLes billets seront mis
  en vente à partir du 5 juillet 2024 à des prix early bird. Après cette da
 te\, les prix réguliers seront appliqués.\n\n
DTSTART:20240920T000000
DTEND:20240922T235900
LOCATION:St. Gallen\, Schweiz
ORGANIZER:MAILTO:BPW Neuchatel <info@bpw-neuchatel.ch>
SUMMARY:Congrès DACH 2024
END:VEVENT
END:VCALENDAR
