BEGIN:VCALENDAR
VERSION:2.0
PRODID:-//BPW Neuchatel//NONSGML kigkonsult.se iCalcreator 2.16.12//
METHOD:PUBLISH
X-MS-OLK-FORCEINSPECTOROPEN:TRUE
BEGIN:VEVENT
UID:20260424T141112CEST-6662WJwtAV@BPW Neuchatel
DTSTAMP:20260424T121112Z
DESCRIPTION:De plus amples informations sur le BPW International Leaders' S
 ummit 2024 suivront après l'annonce officielle de BPW International.\n
DTSTART:20240308T000000
DTEND:20240309T235900
ORGANIZER:MAILTO:BPW Neuchatel <info@bpw-neuchatel.ch>
SUMMARY:BPW International Leaders' Summit\, NY (USA)
END:VEVENT
END:VCALENDAR
