BEGIN:VCALENDAR
VERSION:2.0
PRODID:-//BPW Neuchatel//NONSGML kigkonsult.se iCalcreator 2.16.12//
METHOD:PUBLISH
X-MS-OLK-FORCEINSPECTOROPEN:TRUE
BEGIN:VEVENT
UID:20260424T135819CEST-1324JgtGRM@BPW Neuchatel
DTSTAMP:20260424T115819Z
DESCRIPTION:La 68e session de la Commission de la condition de la femme (CS
 W68-2024) se tiendra à New York du 11 au 22 mars 2024.\n\nThème principal 
 :\nAccélérer la réalisation de l'égalité des sexes et l'autonomisation de 
 toutes les femmes et les filles en luttant contre la pauvreté et en renfor
 çant les institutions et le financement\, tout en tenant compte de la pers
 pective de genre.\n\nFaire le point et examiner les thèmes :\nSystèmes de 
 protection sociale\, accès aux services publics et infrastructures durable
 s pour l'égalité des sexes et l'autonomisation des femmes et des filles (d
 éclaration finale convenue de la 63e session).\n\nPour plus d'informations
  sur le congrès\, les thèmes\, les actualités\, les vidéos\, les lieux et 
 la commande de billets\, cliquez ici.\n\nRemarque : le BPW International L
 eader's Summit et le Clare Fulcher Dinner auront également lieu à New York
  du 8 au 9 mars 2024.\n\nLa participation au CSW68 est - comme d'habitude 
 - limitée à 20 membres par ONG. \n\nLes demandes de participation au CSW68
  sont à adresser à presidents.office@bpw-international.org\n
DTSTART:20240311T000000
DTEND:20240322T235900
ORGANIZER:MAILTO:BPW Neuchatel <info@bpw-neuchatel.ch>
SUMMARY:CSW New York (USA)
END:VEVENT
END:VCALENDAR
