BEGIN:VCALENDAR
VERSION:2.0
PRODID:-//BPW Neuchatel//NONSGML kigkonsult.se iCalcreator 2.16.12//
METHOD:PUBLISH
X-MS-OLK-FORCEINSPECTOROPEN:TRUE
BEGIN:VEVENT
UID:20260424T142320CEST-2761bACLo5@BPW Neuchatel
DTSTAMP:20260424T122320Z
DESCRIPTION:L'Assemblée générale et le Young Forum de BPW Europe auront lie
 u du 21 au 24 mars 2024 à Rome (Italie). \n\nDe plus amples informations s
 ur l'Assemblée générale et le Forum des jeunes de PW Europe suivront après
  l'annonce officielle de BPW Europe.\n \n
DTSTART:20240322T000000
DTEND:20240324T235900
ORGANIZER:MAILTO:BPW Neuchatel <info@bpw-neuchatel.ch>
SUMMARY:BPW Europe General Assembly and Young Forum\, Rom (Italien)
END:VEVENT
END:VCALENDAR
