BEGIN:VCALENDAR
VERSION:2.0
PRODID:-//BPW Neuchatel//NONSGML kigkonsult.se iCalcreator 2.16.12//
METHOD:PUBLISH
X-MS-OLK-FORCEINSPECTOROPEN:TRUE
BEGIN:VEVENT
UID:20260424T141001CEST-5918KtOB84@BPW Neuchatel
DTSTAMP:20260424T121001Z
DESCRIPTION:La réunion Equal Pay Day se tiendra à Prague (République tchèqu
 e) du 11 au 12 avril 2024. \n\nDe plus amples informations sur le congrès 
 de l'Equal Pay Day suivront après l'annonce officielle.\n \n
DTSTART:20240411T000000
DTEND:20240412T235900
ORGANIZER:MAILTO:BPW Neuchatel <info@bpw-neuchatel.ch>
SUMMARY:Equal Pay Day se tiendra à Prague (République tchèque)
END:VEVENT
END:VCALENDAR
