BEGIN:VCALENDAR
VERSION:2.0
PRODID:-//BPW Neuchatel//NONSGML kigkonsult.se iCalcreator 2.16.12//
METHOD:PUBLISH
X-MS-OLK-FORCEINSPECTOROPEN:TRUE
BEGIN:VEVENT
UID:20260424T142540CEST-4837NohirZ@BPW Neuchatel
DTSTAMP:20260424T122540Z
DESCRIPTION:\n \n\nLe comité central et le bureau de BPW Switzerland vous i
 nvitent à une formation pour les présidentes de club ! Vous êtes une prési
 dente de club en devenir ou déjà élue ? Ou vous souhaitez en savoir plus s
 ur les objectifs de BPW et la fonction de présidente de club ?\n\nCette an
 née\, la formation aura à nouveau lieu en personne\, afin de nous donner à
  toutes l'occasion de discuter directement de thèmes et de nous mettre en 
 réseau.\nLe rendez-vous est fixé à 9h15 au secrétariat de BPW Switzerland\
 , la formation commence à 9h45. L'adresse est la suivante : Länggassstrass
 e 10\, 3012 Berne.\n\nLors de la formation du 27 avril 2024\, nous parlero
 ns des objectifs et des projets de BPW ainsi que de toutes les questions d
 'organisation qui vous concernent en tant que présidente d'un de nos 39 cl
 ubs dans toute la Suisse.\n\nLa formation durera jusqu'à 13 heures environ
 . A la fin\, vous aurez encore le temps de poser des questions et d'échang
 er autour d'un petit apéritif.\n\nNous vous prions de vous inscrire au moy
 en du formulaire ci-dessous jusqu'au 21 avril 2024.\n\nLes personnes qui s
 ouhaitent se connecter uniquement en ligne peuvent le faire et le mentionn
 er dans leur inscription. En cas de participation via le zoom\, la formati
 on ne peut toutefois être suivie qu'en tant qu'auditrice \; une participat
 ion active est uniquement possible sur place.\n\nLe lien zoom pour celles 
 qui ne peuvent participer qu'en ligne sera envoyé peu avant l'événement.\n
 \nNous nous réjouissons d'accueillir le plus grand nombre possible d'entre
  vous sur place et d'avoir un échange animé !\n \n\n\n
DTSTART:20240427T091500
DTEND:20240427T130000
LOCATION:Bern
ORGANIZER:MAILTO:BPW Neuchatel <info@bpw-neuchatel.ch>
SUMMARY:Formation pour les nouvelles présidentes de club
END:VEVENT
END:VCALENDAR
