BEGIN:VCALENDAR
VERSION:2.0
PRODID:-//BPW Neuchatel//NONSGML kigkonsult.se iCalcreator 2.16.12//
METHOD:PUBLISH
X-MS-OLK-FORCEINSPECTOROPEN:TRUE
BEGIN:VEVENT
UID:20260424T141605CEST-0700uXaGjJ@BPW Neuchatel
DTSTAMP:20260424T121605Z
DESCRIPTION:\nNous répondons à vos questions sur le site web\, le compte de
  messagerie et la base de données sous la forme d'un échange ouvert sans o
 rdre du jour.\nVous pourrez poser vos questions et profiter en même temps 
 de celles des autres.\n\nNous nous rencontrerons via Zoom le jeudi 24 octo
 bre 2024\, à partir de 18 heures jusqu'à 19h30 environ.\n\nNous vous prion
 s de vous inscrire jusqu'au 21 octobre 2024 au plus tard. Après le délai d
 'inscription\, vous recevrez le lien Zoom de notre part.\n\n\nRemarque : n
 ous proposons la même consultation en allemand le mercredi 30 octobre 2024
  de 18h00 à 19h30 environ.\n\n\n
DTSTART:20241024T180000
DTEND:20241024T193000
LOCATION:Online
ORGANIZER:MAILTO:BPW Neuchatel <info@bpw-neuchatel.ch>
SUMMARY:Consultation en ligne pour Site web\, mails et base de données (fra
 nçais)
END:VEVENT
END:VCALENDAR
