BEGIN:VCALENDAR
VERSION:2.0
PRODID:-//BPW Neuchatel//NONSGML kigkonsult.se iCalcreator 2.16.12//
METHOD:PUBLISH
X-MS-OLK-FORCEINSPECTOROPEN:TRUE
BEGIN:VEVENT
UID:20260424T135930CEST-6924jFMHtO@BPW Neuchatel
DTSTAMP:20260424T115930Z
DESCRIPTION:\n \n\n \n\nÀ propos de Dr. Rosanne Bertuccio :\n\nDr. Rosanna 
 Bertuccio est chercheuse sur le genre (Université de Bâle)\, elle s'intére
 sse aux contextes sociaux (famille\, école\, etc.) qui favorisent des mode
 s de pensée et d'action stéréotypés au détriment des filles et des femmes.
  Elle est membre de l'Association suisse pour l'étude du genre (ASEG). Dr 
 Bertuccio est linguiste et a enseigné la langue et la littérature allemand
 es à l'école secondaire suisse. Elle est également membre du Comité Centra
 l du BPW à Berne.\n\nÀ propos de la présentation :\n\nDr. Bertuccio nous g
 uidera à travers les méandres de la théorie sur les biais inconscients sui
 vie d’un atelier pratique sur comment pouvons-nous réagir aux biais incons
 cients discriminatoires aux lieux de travail. Seriez-vous sure de votre av
 is professionnel ? (Vous venez de terminer un audit). Votre mari ne vient 
 pas au sentier ? (Vous êtes la cheffe de projet de construction/ rénovatio
 n et le corps de métier refuse de vous parler). Etes-vous sure de vouloir 
 la contraception définitive à votre âge ?  (Vous pouvez voter à 18 ans mai
 s vous n’êtes pas en mesure pas décider sur votre fertilité)\n\nDes questi
 ons apparemment anodines qui nous sont adressées quotidiennement dans les 
 entreprises\, entre fournisseurs de services et clients\, dans le contexte
  médical entre professionnel médical et patient\, la liste n’est pas exhau
 stive\, et qui sont de biais inconscients discriminatoires. \n\nDétails de
  l'événement :\n\n•    Date : Jeudi le 25 avril 2024\n•    Horaire : 18h30
  – Accueil \; 19h à 19h50 – Conférence \; 20h - Réseautage au Waves\n•    
 Lieu : Best Western Premier Hotel Beaulac - 2 Esplanade Léopold-Robert\, 2
 000 Neuchâtel-NE\n•    Format : Atelier \n•    Prix : 55 CHF pour les memb
 res \; 66 CHF pour les non-membres\n \n\n\n
DTSTART:20240425T183000
DTEND:20240425T210000
ORGANIZER:MAILTO:BPW Neuchatel <info@bpw-neuchatel.ch>
SUMMARY:Atelier: Biais inconscients aux lieux de travail: Comment réagir av
 ec élégance et sophistication 
END:VEVENT
END:VCALENDAR
