BEGIN:VCALENDAR
VERSION:2.0
PRODID:-//BPW Neuchatel//NONSGML kigkonsult.se iCalcreator 2.16.12//
METHOD:PUBLISH
X-MS-OLK-FORCEINSPECTOROPEN:TRUE
BEGIN:VEVENT
UID:20260424T142319CEST-912594C0pS@BPW Neuchatel
DTSTAMP:20260424T122319Z
DESCRIPTION:\n \n\n \n\nÀ propos de Yves Bianchi SA :\n\nFondée en 1900 par
  Paul Bianchi-Dupont\, Yves Bianchi SA est une affaire familiale ancrée au
  cœur de Neuchâtel\, dans le quartier historique du château. Sa longévité 
 remarquable est le fruit d'un engagement sans faille à la qualité\, perpét
 ué par cinq générations. Aujourd'hui\, sous la direction de Mélanie\, repr
 ésentante de la cinquième génération\, l'entreprise a surmonté les défis p
 osés par la disparition prématurée de Yves Bianchi (quatrième génération) 
 en 2011. Face aux obstacles d'un secteur traditionnellement masculin\, cel
 ui du bâtiment\, elles ont redoublé d'efforts pour garantir la pérennité d
 e cette entreprise familiale profondément chère à leur cœur\, qui célèbrer
 a bientôt son 125ème anniversaire.\n \n\n\nDétails de l'événement :\n\n•  
   Date : Mercredi 29 mai 2024\n•    Horaire : 18h30 – Accueil \; 19h à 19h
 50 – Visite\;\n•    Lieu : Rue Du Pommier 5 · 2000 Neuchâtel\n•    Format 
 : Visite d'entreprise\n•    Prix : 55 CHF pour les membres \; 66 CHF pour 
 les non-membres\n \n\n\n
DTSTART:20240529T183000
DTEND:20240529T210000
ORGANIZER:MAILTO:BPW Neuchatel <info@bpw-neuchatel.ch>
SUMMARY:Visite Exclusive chez Yves Bianchi SA
END:VEVENT
END:VCALENDAR
