BEGIN:VCALENDAR
VERSION:2.0
PRODID:-//BPW Neuchatel//NONSGML kigkonsult.se iCalcreator 2.16.12//
METHOD:PUBLISH
X-MS-OLK-FORCEINSPECTOROPEN:TRUE
BEGIN:VEVENT
UID:20260424T142228CEST-1736B9VA9F@BPW Neuchatel
DTSTAMP:20260424T122228Z
DESCRIPTION:\n \n\n \n\nAu-delà d'une simple soirée\, nous envisageons un m
 oment d'échange et de partage\, une chance de se soutenir et de s'encourag
 er mutuellement dans nos ambitions professionnelles et personnelles. \n\nL
 a fête d'été du BPW Neuchâtel\, enrichie par le dynamisme de Young BPW\, p
 romet d'être un moment unique!\n\n \n\n\nDétails de l'événement :\n\n•    
 Date : Jeudi 20 juin 2024\n•    Horaire : 19h00 \n•    Lieu : Hotel Beaula
 c - 2 Esplanade Léopold-Robert\, 2000 Neuchâtel-NE\n•    Prix : 55 CHF pou
 r les membres \; 66 CHF pour les non-membres\n\n\n
DTSTART:20240620T190000
DTEND:20240620T210000
ORGANIZER:MAILTO:BPW Neuchatel <info@bpw-neuchatel.ch>
SUMMARY:SUMMER PARTY
END:VEVENT
END:VCALENDAR
