BEGIN:VCALENDAR
VERSION:2.0
PRODID:-//BPW Neuchatel//NONSGML kigkonsult.se iCalcreator 2.16.12//
METHOD:PUBLISH
X-MS-OLK-FORCEINSPECTOROPEN:TRUE
BEGIN:VEVENT
UID:20260424T135819CEST-6216EeFhVj@BPW Neuchatel
DTSTAMP:20260424T115819Z
DESCRIPTION:'Se connaître soi-même avant d'incarner son projet'\, un moment
  de réflexion et de transformation.\nLors de cette conférence\, nous allon
 s plonger dans l'essentiel : vous.\nVous êtes l'âme de votre projet\, et a
 vant de pouvoir l'incarner pleinement\, vous devez d'abord vous connaître 
 véritablement.\nCela signifie comprendre vos forces\, vos valeurs\, mais s
 urtout vos émotions\, qui sont les boussoles de votre parcours.\nNous parl
 erons du pouvoir d'être connectée à soi\, de l'importance de votre propre 
 vérité et\, bien sûr\, le 'projet cœur d’artichaut' – une métaphore qui vo
 us invitera à réfléchir sur l’authenticité de ce que vous voulez porter da
 ns ce monde.\nUne invitation à poser des questions puissantes\, celles qui
  vous permettront de découvrir non seulement votre projet\, mais la femme 
 forte qui se trouve derrière. Parce que\, lorsque vous êtes en phase avec 
 qui vous êtes vraiment\, aucun obstacle ne peut vous arrêter.\n\nÀ propos 
 de Khadija Levain-Chavanon –Coach professionnelle certifiée\, experte en d
 éveloppement humain et en image-Fondatrice de Manaar Consulting\nUne leade
 r passionnée avec plus de 20 ans d'expérience dans les Ressources Humaines
 \, en Suisse et à l’international.\nManaar Consulting\, un cabinet fondé a
 utour d'une mission forte : accompagner les individus et les entreprises v
 ers une transformation profonde et durable.\nKhadija accompagne ses client
 s dans une démarche introspective et transformative. Elle sait que l’align
 ement entre l’être intérieur et l’image extérieure est essentiel pour inca
 rner pleinement son potentiel\, que ce soit dans la vie professionnelle ou
  personnelle.\nSon approche repose sur des valeurs profondes : l’authentic
 ité\, l’engagement\, et la transformation durable.\nElle travaille avec de
 s particuliers et des entreprises\, créant des solutions sur mesure pour c
 haque projet\, toujours avec l'objectif de développer le capital humain et
  d’encourager une performance sur le long terme.\nKhadija Levain-Chavanon 
 incarne une approche holistique du développement humain\, où la connaissan
 ce de soi\, l'intelligence émotionnelle\, et l'image personnelle s’harmoni
 sent pour créer une transformation unique.\n\nDate: Jeudi 24 octobre 2024
 \nProgramme:\n18h30-19h00 - Accueil au Beaulac\n19h00-19h50 –  Conférence 
 en salle\n20h00-22h00 – Apéritif dinatoire non alcoolisé au Waves Rooftop 
 Bar\nLieu: Best Western Premier Hotel Beaulac\nEsp. Léopold-Robert 2\, 200
 0 Neuchâtel/NE\nPrix: 55 CHF pour les membres \; 66 CHF pour les non-membr
 es\n 
DTSTART:20241024T183000
DTEND:20241024T220000
LOCATION:Best Western Premier Hotel Beaulac
ORGANIZER:MAILTO:BPW Neuchatel <info@bpw-neuchatel.ch>
SUMMARY:'Se connaître soi-même avant d'incarner son projet' avec Khadija Le
 vain-Chavanon
END:VEVENT
END:VCALENDAR
