BEGIN:VCALENDAR
VERSION:2.0
PRODID:-//BPW Neuchatel//NONSGML kigkonsult.se iCalcreator 2.16.12//
METHOD:PUBLISH
X-MS-OLK-FORCEINSPECTOROPEN:TRUE
BEGIN:VEVENT
UID:20260424T142406CEST-5654DpLAdD@BPW Neuchatel
DTSTAMP:20260424T122406Z
DESCRIPTION:Venez expérimenter avec nous une soirée de réseautage pas comme
  les autres. Durant cette soirée\, vous aurez en effet la possibilité d’éc
 hanger de manière privilégiée et qualitative avec au moins dix personnes p
 our évoquer d'éventuelles synergies entre vous.\n\nLa première partie de l
 a soirée sera consacrée à un 'business speed dating' ludique et organisé d
 e façon à ce que les participantes puissent réseauter quelle que soit leur
  expérience et aisance dans ce domaine. Un apéritif permettra de continuer
  à échanger de façon informelle.\n\nVenez avec bienveillance et des cartes
  de visite en nombre suffisant. Réseautage et convivialité garantis !\n\nR
 esponsable commerciale chez Kinnarps\, Laurence Huneau a plus de 20 ans d'
 expérience dans la vente\, la création de société et la gestion d'équipe d
 ans des domaines et lieux divers. Peu après son arrivée à Neuchâtel elle a
  adhéré à BPW. De par ses fonctions actuelles et passées elle aime dévelop
 per son réseau et mettre en relation les uns avec les autres. Après avoir 
 participé à plusieurs Speed Business Meetings\, elle se réjouit d'être à s
 on tour celle qui animera dans la bonne humeur cette soirée.\n\nDate : Mer
 credi 20 novembre  2024\nProgramme :\n18h30-19h00 - Accueil au Beaulac\n19
 h00-21h00 - Business Speed Dating et apéritif dinatoire non alcoolisé au W
 aves Rooftop Bar\nLieu : Best Western Premier Hotel Beaulac\nEsp. Léopold-
 Robert 2\, 2000 Neuchâtel/NE\nPrix : 35 CHF pour les membres \; 45 CHF pou
 r les non-membres\n\n\n\n 
DTSTART:20241120T183000
DTEND:20241120T210000
LOCATION:Best Western Premier Hotel Beaulac
ORGANIZER:MAILTO:BPW Neuchatel <info@bpw-neuchatel.ch>
SUMMARY:'Business Speed Dating' avec Laurence Huneau
END:VEVENT
END:VCALENDAR
