BEGIN:VCALENDAR
VERSION:2.0
PRODID:-//BPW Neuchatel//NONSGML kigkonsult.se iCalcreator 2.16.12//
METHOD:PUBLISH
X-MS-OLK-FORCEINSPECTOROPEN:TRUE
BEGIN:VEVENT
UID:20260424T160342CEST-2813rbED9L@BPW Neuchatel
DTSTAMP:20260424T140342Z
DESCRIPTION:\nDÎNER DE NOËL 2024 – Un spectacle féerique sous la Halle de c
 irque avec le BPW Fribourg!\n\nCette année\, notre Dîner de Noël sera plac
 é sous le signe de la magie !\nNous avons organisé un dîner-spectacle qui 
 se tiendra dans la halle de cirque Analya Création (Chemin des Longues Rai
 es 7\, 2013 Colombier\, Milvignes NE).\nLe déroulement de la soirée compre
 ndra un apéritif\, suivi d’un repas assis\,  entrecoupé de numéros de cirq
 ue époustouflants\, réalisés par des talents prometteurs et des artistes p
 rofessionnels.\n\nDate : Jeudi 12 décembre 2024\nPrix : 100 CHF par person
 ne\, incluant le dîner et le spectacle et sans boissons.\n\nUne soirée int
 erclubs exclusive  qui clôturera l’année en beauté dans une ambiance chale
 ureuse et conviviale!\n 
DTSTART:20241212T183000
DTEND:20241212T230000
LOCATION:Halle de cirque Analya Création 
ORGANIZER:MAILTO:BPW Neuchatel <info@bpw-neuchatel.ch>
SUMMARY:DÎNER-SPECTACLE DE NOËL 2024 Chez Analya Création
END:VEVENT
END:VCALENDAR
