BEGIN:VCALENDAR
VERSION:2.0
PRODID:-//BPW Neuchatel//NONSGML kigkonsult.se iCalcreator 2.16.12//
METHOD:PUBLISH
X-MS-OLK-FORCEINSPECTOROPEN:TRUE
BEGIN:VEVENT
UID:20260424T123016CEST-2728JTr8JM@BPW Neuchatel
DTSTAMP:20260424T103016Z
DESCRIPTION:Equal  Pay Day 2025\n\nVenez nos soutenir et nous aider au stan
 d qui se tiendra le 15 février entre 8h et 12h au Marché de Neuchâtel !\n
 \n'Est-ce que tu as du temps ?'\n\nD’après l’enquête suisse sur la structu
 re des salaires (2022)\, la différence de salaire actuelle est de 12 %. La
  différence de salaire est illégale et va à l’encontre de la loi sur l’éga
 lité inscrite dans la Constitution fédérale.\n\nLa date de l’Equal Pay Day
  varie d’une année sur l’autre étant donné qu’elle reflète la différence d
 e salaire du moment. Alors qu’un homme touchera son salaire à partir du 1e
 r janvier 2025\, une femme\, elle\, avant de percevoir le sien\, travaille
 ra gratuitement 12 %\, c’est-à-dire jusqu’au 15 février 2025.\n\n 
DTSTART:20250215T000000
DTEND:20250215T235900
LOCATION:Au Marché de Neuchâtel 
ORGANIZER:MAILTO:BPW Neuchatel <info@bpw-neuchatel.ch>
SUMMARY:Equal Pay Day - 2025
END:VEVENT
END:VCALENDAR
