BEGIN:VCALENDAR
VERSION:2.0
PRODID:-//BPW Neuchatel//NONSGML kigkonsult.se iCalcreator 2.16.12//
METHOD:PUBLISH
X-MS-OLK-FORCEINSPECTOROPEN:TRUE
BEGIN:VEVENT
UID:20260424T123016CEST-8368HRixoi@BPW Neuchatel
DTSTAMP:20260424T103016Z
DESCRIPTION:\nBPW est forte - au niveau local\, régional\, national et inte
 rnational !\n\nToutes les BPW qui s'intéressent à l'international ou qui s
 ouhaitent y jeter un coup d'œil sont cordialement invitées à cet événement
  en ligne. Nous avons préparé deux temps forts pour vous :\n\nRapport du C
 SW69 - Aperçu de la Commission des droits de la femme de l'ONU\n\nVera Ben
 der\, membre du comité central\, a représenté BPW Switzerland en mars lors
  du CSW69 (= Commission des droits des femmes de l'ONU) à New York.\n\nEll
 e nous en parle :\n\n\n	\n	Qu'est-ce que la CSW et pourquoi est-elle pertine
 nte pour les femmes et les BPW ?\n	\n	\n	Quels étaient les thèmes principaux 
 en 2024 ?\n	\n	\n	Quelle était l'atmosphère à New York et quelles sont les im
 pulsions qu'elle apporte ?\n	\n\n\nKick-Off du groupe de travail Internatio
 nal - participer maintenant\n\n\nBarbara Haller Rupf\, également membre du
  comité central\, présente le groupe de travail International nouvellement
  activé.\n\n\n	\n	Quels sont les objectifs du groupe de travail?\n	\n	\n	Quelle
 s activités sont prévues ?\n	\n	\n	Comment pouvez-vous vous impliquer ?\n	\n\n
 \nPour conclure cet événement en ligne de BPW Switzerland\, une plateforme
  sera mise à disposition pour les questions et les échanges.\n\nLangue : l
 'événement aura lieu en allemand ou en allemand et en français\, selon l'é
 tat des inscriptions. Et pour le reste\, le principe éprouvé s'applique : 
 chacune parle dans sa langue.\n\nNous nous réjouissons de vous accueillir 
 !\n\nNous vous prions de vous inscrire ici\n\n\n
DTSTART:20250415T120000
DTEND:20250415T130000
LOCATION:Online via Zoom
ORGANIZER:MAILTO:BPW Neuchatel <info@bpw-neuchatel.ch>
SUMMARY:Update zu BPW International 
END:VEVENT
END:VCALENDAR
